BEGIN:VCALENDAR
VERSION:2.0
PRODID:icalendar-ruby
CALSCALE:GREGORIAN
BEGIN:VEVENT
DTSTAMP:20260422T102003Z
UID:db922e48-5855-4f0e-ab7b-1de170e32d0b
DTSTART:20260429T084500
DTEND:20260429T093500
CLASS:PRIVATE
DESCRIPTION:The “bootcamp” style workouts feature circuit training and 
 interval training and are designed for individuals of ALL abilities from t
 he novice exerciser to the college athlete. 
LOCATION:5701 Broad Branch Rd NW Washington\, DC 20015
ORGANIZER;CN=SidePlank Project:mailto:yogi@sideplank.org
SUMMARY:Lafayette Bootcamp (Wednesday 8:45am) at DC Health Coaches
END:VEVENT
END:VCALENDAR
