BEGIN:VCALENDAR
VERSION:2.0
PRODID:icalendar-ruby
CALSCALE:GREGORIAN
BEGIN:VEVENT
DTSTAMP:20260424T094231Z
UID:a483f19d-9823-40dd-bfc4-33c4c55cca0e
DTSTART:20260430T063000
DTEND:20260430T072000
CLASS:PRIVATE
DESCRIPTION:Bootcamp Location is Dependent on weather.  Please refer to our
  daily email for location.  Thanks!
LOCATION:5701 Broad Branch Rd NW Washington\, DC 20015
ORGANIZER;CN=SidePlank Project:mailto:yogi@sideplank.org
SUMMARY:Lafayette Bootcamp (Thursday 6:30am) at DC Health Coaches
END:VEVENT
END:VCALENDAR
