BEGIN:VCALENDAR
VERSION:2.0
PRODID:icalendar-ruby
CALSCALE:GREGORIAN
BEGIN:VEVENT
DTSTAMP:20260422T103636Z
UID:59c3a3bc-bf30-4837-ba9b-18adef15b1bb
DTSTART:20260501T084500
DTEND:20260501T093500
CLASS:PRIVATE
DESCRIPTION:Bootcamp Location is Dependent on weather.  Please refer to our
  daily email for location.  Thanks!
LOCATION:5701 Broad Branch Rd NW Washington\, DC 20015
ORGANIZER;CN=SidePlank Project:mailto:yogi@sideplank.org
SUMMARY:Lafayette Bootcamp (Friday 8:45am) at DC Health Coaches
END:VEVENT
END:VCALENDAR
