BEGIN:VCALENDAR
VERSION:2.0
PRODID:icalendar-ruby
CALSCALE:GREGORIAN
BEGIN:VEVENT
DTSTAMP:20260422T103211Z
UID:d3b29859-b8af-4a7a-af88-e5bee6bff110
DTSTART:20260502T080000
DTEND:20260502T085000
CLASS:PRIVATE
DESCRIPTION:Bootcamp by the Rec Center
LOCATION:5701 Broad Branch Rd NW Washington\, DC 20015
ORGANIZER;CN=SidePlank Project:mailto:yogi@sideplank.org
SUMMARY:Saturday Bootcamp Lafayette at DC Health Coaches
END:VEVENT
END:VCALENDAR
