BEGIN:VCALENDAR
VERSION:2.0
PRODID:icalendar-ruby
CALSCALE:GREGORIAN
BEGIN:VEVENT
DTSTAMP:20260422T102004Z
UID:450cd7b6-3b83-495b-bc9b-fab3c11b0f52
DTSTART:20260504T084500
DTEND:20260504T093500
CLASS:PRIVATE
DESCRIPTION:Bootcamp Location is Dependent on weather.  Please refer to our
  daily email for location.  Thanks!
LOCATION:5701 Broad Branch Rd NW Washington\, DC 20015
ORGANIZER;CN=SidePlank Project:mailto:yogi@sideplank.org
SUMMARY:Lafayette Bootcamp (Monday 8:45am) at DC Health Coaches
END:VEVENT
END:VCALENDAR
