BEGIN:VCALENDAR
VERSION:2.0
PRODID:icalendar-ruby
CALSCALE:GREGORIAN
BEGIN:VEVENT
DTSTAMP:20260422T120156Z
UID:b697a6c2-bbf7-4ee3-921e-b23d6290de93
DTSTART:20260508T084500
DTEND:20260508T093500
CLASS:PRIVATE
DESCRIPTION:Bootcamp Location is Dependent on weather.  Please refer to our
  daily email for location.  Thanks!
LOCATION:5701 Broad Branch Rd NW Washington\, DC 20015
ORGANIZER;CN=SidePlank Project:mailto:yogi@sideplank.org
SUMMARY:Lafayette Bootcamp (Friday 8:45am) at DC Health Coaches
END:VEVENT
END:VCALENDAR
