BEGIN:VCALENDAR
VERSION:2.0
PRODID:icalendar-ruby
CALSCALE:GREGORIAN
BEGIN:VEVENT
DTSTAMP:20260422T115405Z
UID:86c63f54-9bf4-465f-b4a6-34e11ded8075
DTSTART:20260509T080000
DTEND:20260509T085000
CLASS:PRIVATE
DESCRIPTION:Bootcamp by the Rec Center
LOCATION:5701 Broad Branch Rd NW Washington\, DC 20015
ORGANIZER;CN=SidePlank Project:mailto:yogi@sideplank.org
SUMMARY:Saturday Bootcamp Lafayette at DC Health Coaches
END:VEVENT
END:VCALENDAR
