BEGIN:VCALENDAR
VERSION:2.0
PRODID:icalendar-ruby
CALSCALE:GREGORIAN
BEGIN:VEVENT
DTSTAMP:20260422T114601Z
UID:5843f89d-e655-4b93-ab61-6e18d7ba1083
DTSTART:20260511T063000
DTEND:20260511T072000
CLASS:PRIVATE
DESCRIPTION:Bootcamp Location is Dependent on weather.  Please refer to our
  daily email for location.  Thanks!
LOCATION:5701 Broad Branch Rd NW Washington\, DC 20015
ORGANIZER;CN=SidePlank Project:mailto:yogi@sideplank.org
SUMMARY:Lafayette Bootcamp (Monday 6:30am) at DC Health Coaches
END:VEVENT
END:VCALENDAR
