BEGIN:VCALENDAR
VERSION:2.0
PRODID:icalendar-ruby
CALSCALE:GREGORIAN
BEGIN:VEVENT
DTSTAMP:20260422T120912Z
UID:094b8219-c853-4039-8534-0bb934d8948d
DTSTART:20260516T080000
DTEND:20260516T085000
CLASS:PRIVATE
DESCRIPTION:Bootcamp by the Rec Center
LOCATION:5701 Broad Branch Rd NW Washington\, DC 20015
ORGANIZER;CN=SidePlank Project:mailto:yogi@sideplank.org
SUMMARY:Saturday Bootcamp Lafayette at DC Health Coaches
END:VEVENT
END:VCALENDAR
