BEGIN:VCALENDAR
VERSION:2.0
PRODID:icalendar-ruby
CALSCALE:GREGORIAN
BEGIN:VEVENT
DTSTAMP:20260422T120717Z
UID:9b5e3f9a-b909-4627-a5fd-6a513f07c5e2
DTSTART:20260520T063000
DTEND:20260520T072000
CLASS:PRIVATE
DESCRIPTION:Bootcamp Location is Dependent on weather.  Please refer to our
  daily email for location.  Thanks!\n\nInstructor: Brendan Herbert (https:
 //on.sideplank.org/pros/253-brendan-herbert)
LOCATION:5701 Broad Branch Rd NW Washington\, DC 20015
ORGANIZER;CN=SidePlank Project:mailto:yogi@sideplank.org
SUMMARY:Lafayette Bootcamp (Wednesday 6:30am) at DC Health Coaches
END:VEVENT
END:VCALENDAR
