BEGIN:VCALENDAR
VERSION:2.0
PRODID:icalendar-ruby
CALSCALE:GREGORIAN
BEGIN:VEVENT
DTSTAMP:20260422T135716Z
UID:10a2d543-d9ba-4f35-bc1b-c30712d4ba9e
DTSTART:20260523T080000
DTEND:20260523T085000
CLASS:PRIVATE
DESCRIPTION:Bootcamp by the Rec Center
LOCATION:5701 Broad Branch Rd NW Washington\, DC 20015
ORGANIZER;CN=SidePlank Project:mailto:yogi@sideplank.org
SUMMARY:Saturday Bootcamp Lafayette at DC Health Coaches
END:VEVENT
END:VCALENDAR
