BEGIN:VCALENDAR
VERSION:2.0
PRODID:icalendar-ruby
CALSCALE:GREGORIAN
BEGIN:VEVENT
DTSTAMP:20260422T121233Z
UID:090e760c-d2fd-4c2d-a402-c1d80e35f73a
DTSTART:20260526T063000
DTEND:20260526T072000
CLASS:PRIVATE
DESCRIPTION:Bootcamp Location is Dependent on weather.  Please refer to our
  daily email for location.  Thanks!
LOCATION:5701 Broad Branch Rd NW Washington\, DC 20015
ORGANIZER;CN=SidePlank Project:mailto:yogi@sideplank.org
SUMMARY:Lafayette Bootcamp (Tuesday 6:30am) at DC Health Coaches
END:VEVENT
END:VCALENDAR
