BEGIN:VCALENDAR
VERSION:2.0
PRODID:icalendar-ruby
CALSCALE:GREGORIAN
BEGIN:VEVENT
DTSTAMP:20260424T114349Z
UID:fedd0878-905c-4e2c-a7fc-6b9bf3a0a263
DTSTART:20260527T063000
DTEND:20260527T072000
CLASS:PRIVATE
DESCRIPTION:Bootcamp Location is Dependent on weather.  Please refer to our
  daily email for location.  Thanks!\n\nInstructor: Brendan Herbert (https:
 //on.sideplank.org/pros/253-brendan-herbert)
LOCATION:5701 Broad Branch Rd NW Washington\, DC 20015
ORGANIZER;CN=SidePlank Project:mailto:yogi@sideplank.org
SUMMARY:Lafayette Bootcamp (Wednesday 6:30am) at DC Health Coaches
END:VEVENT
END:VCALENDAR
