BEGIN:VCALENDAR
VERSION:2.0
PRODID:icalendar-ruby
CALSCALE:GREGORIAN
BEGIN:VEVENT
DTSTAMP:20260422T135414Z
UID:4b02bb0c-acaf-4eb5-9c39-1d26bbb85ee3
DTSTART:20260527T084500
DTEND:20260527T093500
CLASS:PRIVATE
DESCRIPTION:The “bootcamp” style workouts feature circuit training and 
 interval training and are designed for individuals of ALL abilities from t
 he novice exerciser to the college athlete. 
LOCATION:5701 Broad Branch Rd NW Washington\, DC 20015
ORGANIZER;CN=SidePlank Project:mailto:yogi@sideplank.org
SUMMARY:Lafayette Bootcamp (Wednesday 8:45am) at DC Health Coaches
END:VEVENT
END:VCALENDAR
